BEGIN:VCALENDAR
VERSION:2.0
PRODID:-//eventon.com NONSGML v1.0//EN
CALSCALE:GREGORIAN
METHOD:PUBLISH
BEGIN:VEVENT
UID:69e642363699f
DTSTAMP:20260420T151150Z
DTSTART:20241126T140000Z
DTEND:20241126T230000Z
LOCATION:
SUMMARY:Congreso de Energía Nuclear Colombia
DESCRIPTION:El Cluster Energía Sostenible\,  el Consejo Mundial de Energí
 a Colombia\,  FISE y el Comité Colombiano de la CIER-COCIER\,  nos unimos 
 para crear el 1er Congreso de Energía Nuclear Colombia\,  que marcará un 
 antes y un después en el desarrollo energético de nuestra región. La ene
 rgía nuclear\,  con su capacidad para[..]\nhttps://cidet.org.co/events/con
 greso-de-energia-nuclear-colombia/
URL:https://cidet.org.co/events/congreso-de-energia-nuclear-colombia/
END:VEVENT
END:VCALENDAR