Workbook
Name B8y4ygC6e6F: Family_Regulation!$C$99:$C$100
Name B9m0qwC4p1O: Family_Regulation!$C$105
Name CODE_A0g0zdN8p7I: Product_Family!$C$2:$C$3
Name CODE_A0s9xdR0u7Q: Product_Family!$C$4:$C$11
Name CODE_A1f7pwN6j7N: Product_Family!$C$12:$C$17
Name CODE_A4d4flOj1C: Product_Family!$C$18:$C$32
Name CODE_A4k1zwI5pJ: Product_Family!$C$33:$C$37
Name CODE_B2k3asH4f5L: Product_Family!$C$38:$C$39
Name CODE_B3l8qfZa5N: Product_Family!$C$40
Name CODE_C1m6vuZ7o9D: Product_Family!$C$41:$C$64
Name CODE_C3t3vjK2t4H: Product_Family!$C$65:$C$70
Name CODE_C5a5nhL8wX: Product_Family!$C$71:$C$73
Name CODE_C8t7oxQ0i1D: Product_Family!$C$74:$C$127
Name CODE_D1b8juK5aN: Product_Family!$C$128:$C$131
Name CODE_D5g5hdN9s1K: Product_Family!$C$132:$C$135
Name CODE_D8k0oeD3j3A: Product_Family!$C$136:$C$142
Name CODE_D9f8buU5b3P: Product_Family!$C$143:$C$151
Name CODE_D9o4zlY1d5M: Product_Family!$C$152
Name CODE_E0b5ctQ7l8H: Product_Family!$C$153:$C$162
Name CODE_E4v6hcJ8z4Z: Product_Family!$C$163
Name CODE_E7w2ewL9y9J: Product_Family!$C$164:$C$173
Name CODE_Eh1ycA9x0M: Product_Family!$C$174:$C$177
Name CODE_F0w0mnX3w3V: Product_Family!$C$178:$C$191
Name CODE_F1q3ccT6o6F: Product_Family!$C$192:$C$193
Name CODE_F2f3urT7t5R: Product_Family!$C$194
Name CODE_F2t6ysH7n8X: Product_Family!$C$195:$C$196
Name CODE_F4s2osC3z7S: Product_Family!$C$197:$C$205
Name CODE_FN_A0a4ujW8o3I: Family_Norm!$C$2:$C$12
Name CODE_FN_A0c1hdH1d5J: Family_Norm!$C$13:$C$16
Name CODE_FN_A0g3ywL0cS: Family_Norm!$C$17:$C$20
Name CODE_FN_A0l2fmDj7F: Family_Norm!$C$21:$C$22
Name CODE_FN_A0l4cgP7lH: Family_Norm!$C$23:$C$27
Name CODE_FN_A0m2kaI7z0E: Family_Norm!$C$28:$C$39
Name CODE_FN_A0v8drX0g2Z: Family_Norm!$C$40:$C$47
Name CODE_FN_A1vtaB4g1S: Family_Norm!$C$48:$C$49
Name CODE_FN_A2g5vbFn7X: Family_Norm!$C$50:$C$64
Name CODE_FN_A2j5djU4b5O: Family_Norm!$C$65:$C$72
Name CODE_FN_A3a4nkL1v8N: Family_Norm!$C$73:$C$74
Name CODE_FN_A3r7swA3m0I: Family_Norm!$C$75:$C$83
Name CODE_FN_A4b0caKa5W: Family_Norm!$C$5541:$C$1048576
Name CODE_FN_A4j5apC0c8B: Family_Norm!$C$84:$C$87
Name CODE_FN_A4o7xtC5r3D: Family_Norm!$C$88:$C$90
Name CODE_FN_A4r5hrT8v6H: Family_Norm!$C$91:$C$95
Name CODE_FN_A4t4ilJ8v1P: Family_Norm!$C$96:$C$105
Name CODE_FN_A4u3aiF5s3R: Family_Norm!$C$106:$C$110
Name CODE_FN_A4y8oaR7x9I: Family_Norm!$C$111:$C$121
Name CODE_FN_A5n1qiU5p5H: Family_Norm!$C$122:$C$128
Name CODE_FN_A5p3oxE4l7R: Family_Norm!$C$5541:$C$1048576
Name CODE_FN_A6afgN9p8F: Family_Norm!$C$5541:$C$1048576
Name CODE_FN_A6c3vtB8o2Q: Family_Norm!$C$129:$C$132
Name CODE_FN_A6h2etA7k6M: Family_Norm!$C$133:$C$134
Name CODE_FN_A6q3nnM1u2E: Family_Norm!$C$135:$C$137
Name CODE_FN_A6v4bkG0l9P: Family_Norm!$C$138:$C$140
Name CODE_FN_A7d1ecS1o2D: Family_Norm!$C$141:$C$144
Name CODE_FN_A7u4efP6p6E: Family_Norm!$C$145:$C$153
Name CODE_FN_A8c6ssG4k5I: Family_Norm!$C$154:$C$159
Name CODE_FN_A8f8quN3t5L: Family_Norm!$C$160:$C$169
Name CODE_FN_A8i0wdK4z7K: Family_Norm!$C$170:$C$178
Name CODE_FN_A8j4yqX7o3U: Family_Norm!$C$179:$C$183
Name CODE_FN_A8l1wnP5r4M: Family_Norm!$C$184:$C$186

Sheet Formulario previo Certificación
AG1: FR-CP-0002 V2
AD2: 45846
AG3: Página 1 de 4
C5: FORMULARIO PREVIO A LA CERTIFICACIÓN DE CONFORMIDAD DE PRODUCTOS
C7: Propuesta número: ___________ | O7: (A diligenciar por CIDET)
C9: 1. INFORMACIÓN GENERAL DE LA EMPRESA QUE HACE LA SOLICITUD
C10: Los campos marcados con asterisco (*) son obligatorios
C11: Toda la información que se adjunte a esta solicitud debe ser en idioma castellano o inglés.
D13: *Nombre o razón social (tal como figura en Cámara de Comercio):
D16: *Número de identificación Tributaria – NIT:
D19: *Dirección:
D22: *Teléfono:
D25: *Contacto
D28: *Email de contacto
C31: ACLARACIÓN: La información para los Ítems A y B no requiere ser diligenciada si el solicitante opta por la certificación tipo muestra o lote:
D34: A) ¿La empresa fabricante del producto tiene certificado ISO 9001?
F35: SÍ | G35: FALSE | K35: NO | L35: FALSE
D37: B) ¿La empresa fabricante del producto tiene un sistema de calidad trazable bajo norma ISO 9001 u otra norma aplicable?
F39: SÍ | G39: FALSE | K39: NO | L39: FALSE
AG45: FR-CP-0002 V2
AD46: 45846
AG47: Página 1 de 4
C49: 2. MODALIDAD DE CERTIFICACIÓN
C50: Seleccione la modalidad bajo la cual desea certificar su producto:
D51: Esquema 1B (Reglamentos anteriores)
C54: 3. IDENTIFICACIÓN Y CARACTERÍSTICAS DE LOS PRODUCTOS A CERTIFICAR
D56: Fabricante (nombre y dirección) | I56: Producto a certificar | N56: Familia o tipo de producto | S56: Códigos de las referencias | Y56: Artículos de Reglamento a certificar | AC56: Norma a certificar (voluntario) | AG56: ¿No encutras tu norma? Dinos cuál necesitas
EX58: PF | EY58: FR | EZ58: FN
I59: Arrancadores directos | N59: De estado sólido | EX59: =+IFERROR(_xlfn.XLOOKUP(I59,Product_Family!$B:$B,Product_Family!$D:$D,"",0),"") -> CODE_C5a5nhL8wX | EY59: =+IFERROR(_xlfn.XLOOKUP(N59,Family_Regulation!$B:$B,Family_Regulation!$D:$D,"",0),"") -> CODE_FR_D4g1noJ7f6O | EZ59: =+IFERROR(_xlfn.XLOOKUP(N59,Family_Norm!$B:$B,Family_Norm!$D:$D,"",0),"") -> CODE_FN_L1wtzJ7p4Z
EX60: =+IFERROR(_xlfn.XLOOKUP(I60,Product_Family!$B:$B,Product_Family!$D:$D,"",0),"") -> 0 | EY60: =+IFERROR(_xlfn.XLOOKUP(N60,Family_Regulation!$B:$B,Family_Regulation!$D:$D,"",0),"") -> 0 | EZ60: =+IFERROR(_xlfn.XLOOKUP(N60,Family_Norm!$B:$B,Family_Norm!$D:$D,"",0),"") -> 0
I61: Sistemas Bandejas portacables para uso eléctrico | N61: Tipo escalera, metálicas | Y61: RETIE_2024_2.3.29.2. | EX61: =+IFERROR(_xlfn.XLOOKUP(I61,Product_Family!$B:$B,Product_Family!$D:$D,"",0),"") -> CODE_L1s1jsJq7N | EY61: =+IFERROR(_xlfn.XLOOKUP(N61,Family_Regulation!$B:$B,Family_Regulation!$D:$D,"",0),"") -> CODE_FR_T7p2hzC5z2J | EZ61: =+IFERROR(_xlfn.XLOOKUP(N61,Family_Norm!$B:$B,Family_Norm!$D:$D,"",0),"") -> CODE_FN_W1o5quI3h8G
EX62: =+IFERROR(_xlfn.XLOOKUP(I62,Product_Family!$B:$B,Product_Family!$D:$D,"",0),"") -> 0 | EY62: =+IFERROR(_xlfn.XLOOKUP(N62,Family_Regulation!$B:$B,Family_Regulation!$D:$D,"",0),"") -> 0 | EZ62: =+IFERROR(_xlfn.XLOOKUP(N62,Family_Norm!$B:$B,Family_Norm!$D:$D,"",0),"") -> 0
I63: Puestas a tierra temporales | N63: Para baja tensión | EX63: =+IFERROR(_xlfn.XLOOKUP(I63,Product_Family!$B:$B,Product_Family!$D:$D,"",0),"") -> CODE_O2iazX3m9O | EY63: =+IFERROR(_xlfn.XLOOKUP(N63,Family_Regulation!$B:$B,Family_Regulation!$D:$D,"",0),"") -> CODE_FR_W1f1ofL3y3U | EZ63: =+IFERROR(_xlfn.XLOOKUP(N63,Family_Norm!$B:$B,Family_Norm!$D:$D,"",0),"") -> CODE_FN_X5f0nuJ3b5J
EX64: =+IFERROR(_xlfn.XLOOKUP(I64,Product_Family!$B:$B,Product_Family!$D:$D,"",0),"") -> 0 | EY64: =+IFERROR(_xlfn.XLOOKUP(N64,Family_Regulation!$B:$B,Family_Regulation!$D:$D,"",0),"") -> 0 | EZ64: =+IFERROR(_xlfn.XLOOKUP(N64,Family_Norm!$B:$B,Family_Norm!$D:$D,"",0),"") -> 0
EX65: =+IFERROR(_xlfn.XLOOKUP(I65,Product_Family!$B:$B,Product_Family!$D:$D,"",0),"") -> 0 | EY65: =+IFERROR(_xlfn.XLOOKUP(N65,Family_Regulation!$B:$B,Family_Regulation!$D:$D,"",0),"") -> 0 | EZ65: =+IFERROR(_xlfn.XLOOKUP(N65,Family_Norm!$B:$B,Family_Norm!$D:$D,"",0),"") -> 0
EX66: =+IFERROR(_xlfn.XLOOKUP(I66,Product_Family!$B:$B,Product_Family!$D:$D,"",0),"") -> 0 | EY66: =+IFERROR(_xlfn.XLOOKUP(N66,Family_Regulation!$B:$B,Family_Regulation!$D:$D,"",0),"") -> 0 | EZ66: =+IFERROR(_xlfn.XLOOKUP(N66,Family_Norm!$B:$B,Family_Norm!$D:$D,"",0),"") -> 0
EX67: =+IFERROR(_xlfn.XLOOKUP(I67,Product_Family!$B:$B,Product_Family!$D:$D,"",0),"") -> 0 | EY67: =+IFERROR(_xlfn.XLOOKUP(N67,Family_Regulation!$B:$B,Family_Regulation!$D:$D,"",0),"") -> 0 | EZ67: =+IFERROR(_xlfn.XLOOKUP(N67,Family_Norm!$B:$B,Family_Norm!$D:$D,"",0),"") -> 0
EX68: =+IFERROR(_xlfn.XLOOKUP(I68,Product_Family!$B:$B,Product_Family!$D:$D,"",0),"") -> 0 | EY68: =+IFERROR(_xlfn.XLOOKUP(N68,Family_Regulation!$B:$B,Family_Regulation!$D:$D,"",0),"") -> 0 | EZ68: =+IFERROR(_xlfn.XLOOKUP(N68,Family_Norm!$B:$B,Family_Norm!$D:$D,"",0),"") -> 0
EX69: =+IFERROR(_xlfn.XLOOKUP(I69,Product_Family!$B:$B,Product_Family!$D:$D,"",0),"") -> 0 | EY69: =+IFERROR(_xlfn.XLOOKUP(N69,Family_Regulation!$B:$B,Family_Regulation!$D:$D,"",0),"") -> 0 | EZ69: =+IFERROR(_xlfn.XLOOKUP(N69,Family_Norm!$B:$B,Family_Norm!$D:$D,"",0),"") -> 0
EX70: =+IFERROR(_xlfn.XLOOKUP(I70,Product_Family!$B:$B,Product_Family!$D:$D,"",0),"") -> 0 | EY70: =+IFERROR(_xlfn.XLOOKUP(N70,Family_Regulation!$B:$B,Family_Regulation!$D:$D,"",0),"") -> 0 | EZ70: =+IFERROR(_xlfn.XLOOKUP(N70,Family_Norm!$B:$B,Family_Norm!$D:$D,"",0),"") -> 0
...

Sheet Notas sobre los esquemas
AG6: FR-CP-0002 V2
AD7: 45846
AG8: Página 1 de 4
C10: NOTAS SOBRE LOS ESQUEMAS DE CERTIFICACIÓN A ELEGIR
C12: Las siguientes opciones pueden orientarle a la hora de seleccionar el esquema de certificación más adecuado para sus necesidades:
C15: Quiero certificar para venta masiva y cuento con Sistema de Gestión de Calidad: si usted es un fabricante o comercializador interesado en vender muchas unidades del producto, de forma masiva y por largos períodos de tiempo, y la planta de fabricación cuenta con Sistema de Gestión de Calidad (verificable mediante Certificado ISO 9001 vigente, auditoría al sistema de gestión o evaluación del sistema productivo), seleccione alguna de las siguientes opciones: Esquema 5 Campo Voluntario, Esquema 5 Reglamentos Anteriores, Esquema 5 RETIE o Esquema 5 RETILAP (estos últimos dos requieren contar con Certificado ISO 9001 vigente)
C21: Quiero certificar para venta masiva y NO cuento con Sistema de Gestión de Calidad: si usted es un fabricante o comercializador interesado en vender muchas unidades del producto, de forma masiva y por largos períodos de tiempo, pero la planta de fabricación NO cuenta con sistema de gestión de calidad, seleccione una de las siguientes opciones: Esquema 4 Campo Voluntario, Esquema 4 Reglamentos Anteriores, Esquema 4 RETIE o Esquema 4 RETILAP. CIDET realizará una evaluación del proceso productivo de la planta.
C26: Quiero certificar para vender un lote de productos: si usted es un fabricante o comercializador interesado en vender o nacionalizar únicamente una cantidad limitada de productos, procedentes de un único lote de fabricación, seleccione alguna de las siguientes opciones: Esquema 1B Campo Voluntario, Esquema 1B Reglamentos Anteriores, Esquema 1B RETIE o Esquema 1B RETILAP. El certificado será válido únicamente para las unidades pertenecientes a dicho lote de fabricación (aplica por ejemplo para el proceso de importación de un contenedor con una cantidad determinada de unidades del producto). Usted deberá además especificar el tamaño del lote (número de unidades) por cada una de las referencias objeto de la certificación.
C33: Quiero certificar un espécimen único del producto: si usted es un fabricante o comercializador interesado en vender o nacionalizar únicamente un espécimen de un producto, seleccione la opción Esquema 1A Campo Voluntario. El certificado será válido únicamente para dicha unidad, no será válido para otras unidades del producto, aunque hayan sido fabricadas en el mismo lote de producción (aplica por ejemplo para un prototipo o muestra comercial del producto). El servicio bajo Esquema 1A solamente será prestado por CIDET con alcance de Acreditación ANAB (servicio No Acreditado por ONAC) y sólo bajo normas técnicas (Campo Voluntario).
C39: Para la prestación del servicio bajo Esquema 5 RETIE o Esquema 5 RETILAP es indispensable contar con el Certificado ISO 9001 vigente para la planta de fabricación. La prestación del servicio bajo Esquema 5 Campo Voluntario o Esquema 5 Reglamentos Anterioes requiere de un Sistema de Gestión de Calidad, preferiblemente con Certificado ISO 9001 vigente. En todo caso, el alcance del Certificado ISO 9001 debe incluir la fabricación del producto objeto de la certificación y debe estar respaldado por un Organismo firmante de los Acuerdos de Reconocimiento Multilateral – MLA’s. Este documento será solicitado al cliente junto con la aceptación de la Oferta Mercantil como requisito para iniciar el proceso de certificación, pero no afecta la viabilidad del servicio: si el cliente manifiesta contar con un Certificado ISO 9001, se entiende viable la prestación del servicio bajo cualquier Esquema 5; si el cliente manifiesta no contar con certificado ISO 9001, pero cuenta con Sistema de gestión de Calidad documentado, se entiende viable la prestación del servicio sólo bajo Esquema 5 Campo Voluntario o Esquema 5 Reglamentos Anteriores, previa auditoría al sistema de gestión o evaluación del proceso productivo; si el cliente no cuenta con Sistema de Gestión de Calidad, se entiende viable la prestación del servicio bajo cualquier Esquema 4
AG56: FR-CP-0002 V2
AD57: 45846
AG58: Página 1 de 4
C60: NOTAS GENERALES
C62: La propuesta técnica y la oferta mercantil se presentará de acuerdo con la información suministrada en el numeral 1. En caso de que esta información no corresponda con la realidad se anulará la propuesta y se deberá solicitar una nueva cotización.
C66: Enviar este formulario diligenciado al e-mail comercial.productos@cidet.org.co
C68: NOTA 1: CIDET no divulgará ni usará con ningún propósito nada del conocimiento o información confidencial o información financiera o de comercio que pueda adquirir o recibir dentro del alcance del desarrollo de este formulario, sin consentimiento previo escrito de la parte que reveló la información confidencial. La confidencialidad asumida no aplicará a ninguna información cuando: a. Que esté disponible públicamente o que se haga de dominio público sin mediación de la parte que la recibe; b. que estaba en posesión de la parte que la recibe con anterioridad a su revelación; c. que es divulgada a la parte receptora por un tercero que no la adquirió bajo obligación de confidencialidad; d. que es desarrollada de manera independiente o adquirida por la parte receptora sin uso o sin hacer referencia a la información confidencial recibida por la parte que revela; e. que es divulgada de acuerdo con los requisitos legales, sentencia vinculante, orden o requisito de una autoridad competente; f. que es divulgada a una afiliada de la parte sobre una base de necesidad de conocimiento.
C76: NOTA 2: Autorizo a CIDET de manera expresa, concreta, suficiente, voluntaria e informada con la finalidad que la información de la cual soy titular y aquella que se refiera a la información personal necesaria para la certificación en sistemas de gestión, sea en general administrada y en especial: capturada, tratada, procesada, operada, verificada, transmitida, usada o puesta en circulación. De la misma manera autorizo a CIDET, como operador de la base de datos, que tiene una finalidad estrictamente utilizada para la certificación, para que procese, opere y administre la información de la cual soy titular, y para que la misma sea transferida y transmitida a Usuarios, lo mismo que a otros operadores nacionales o extranjeros que tengan la misma finalidad. De igual forma autorizo voluntariamente a CIDET para que envíe mensajes a mi correo electrónico relativos a la certificación, La dirección física de CIDET, encargado de la información, es carrera 46 N° 56 -11 piso 16 y la electrónica cidet@cidet.org.co teléfono 4441211. Como usuario Usted tiene derecho a aceptar o no aceptar dicho consentimiento informado para la utilización de sus datos en este o en cualquier momento. El tratamiento de los datos responderá a criterios de información veraz, completa, exacta, actualizada, comprobable y comprensible y se dará al usuario en cualquier momento y sin restricciones, información acerca de la existencia de datos que le conciernan; Si los datos entregados son de carácter personal, y no son información considerada como pública, no podrán estar disponibles en Internet u otros medios de divulgación o comunicación masiva, salvo que el acceso sea técnicamente controlable para brindar un conocimiento restringido sólo a los Titulares o terceros autorizados conforme a la Ley. Se le garantiza al usuario que la información se manejará con las medidas técnicas, humanas y administrativas que sean necesarias para otorgar seguridad a los registros evitando su adulteración, pérdida, consulta, uso o acceso no autorizado o fraudulento. Fuera de lo anterior el usuario tiene derecho a: conocer, actualizar y rectificar sus datos personales frente a CIDET. Este derecho se podrá ejercer, entre otros frente a datos parciales, inexactos, incompletos, fraccionados, que induzcan a error, o aquellos cuyo tratamiento esté expresamente prohibido o no haya sido autorizado; a solicitar prueba de la autorización otorgada a CIDET; a ser informado por CIDET, previa solicitud, respecto del uso que le ha dado a sus datos personales; a presentar ante la Superintendencia de Industria y Comercio quejas por infracciones a lo dispuesto en la presente ley y las demás normas que la modifiquen, adicionen o complementen; a revocar la autorización y/o solicitar la supresión del dato cuando en el tratamiento no se respeten los principios, derechos y garantías constitucionales y legales y a acceder en forma gratuita a sus datos personales que hayan sido objeto de tratamiento. Los Titulares de la información pueden consultar el MANUAL INTERNO DE POLÍTICAS Y PROCEDIMIENTOS DE PROTECCIÓN DE DATOS PERSONALES que contiene nuestras políticas para el tratamiento de la información recogida, así como los procedimientos de consulta y reclamación que le permitirán hacer efectivos sus derechos al acceso, consulta, rectificación, actualización y supresión de los datos, haciendo click en el siguiente enlace: www.cidet.org.co. Los datos recogidos serán administrados en una base de datos con la finalidad arriba señalada y por un plazo contado a partir de la fecha de suscripción hasta que la misma deje de cumplir con la finalidad arriba señalada o la terminación de la organización, la que primero suceda. Dicha base de datos se conserva y administra bajo responsabilidad de CIDET. La base de datos cuenta con las medidas de seguridad necesarias para la conservación adecuada de los datos.

Sheet Product_Family
A1: CÓDIGO RANGO | B1: PRODUCTO (Categoría o Producto/Proceso/Servicio a certificar) | C1: FAMILIA (NOMBRE DE PRODUCTO HOMOLOGADO RETIE 2024) | D1: CÓDIGO RANGO
A2: CODE_A0g0zdN8p7I | B2: Contactores eléctricos para corrientes superiores a 15 A | C2: Contactores eléctricos para corrientes superiores a 15 A, hasta 1000V, se pide una muestra por cada norma de fabricación indicada por el cliente | D2: CODE_A0g0zdN8p7I
A3: CODE_A0g0zdN8p7I | B3: Contactores eléctricos para corrientes superiores a 15 A | C3: Contactores eléctricos para corrientes superiores a 15 A, mayores a 1000V, se pide una muestra por cada norma de fabricación indicada por el cliente | D3: CODE_A0g0zdN8p7I
A4: CODE_A0s9xdR0u7Q | B4: Borneras de conexión y bloques terminales | C4: Borneras de conexión y bloques terminales en Aleaciones de cobre (aislados o no aislados para instalaciones de uso, se pide una muestra por cada norma de fabricación indicada por el cliente final) | D4: CODE_A0s9xdR0u7Q
A5: CODE_A0s9xdR0u7Q | B5: Borneras de conexión y bloques terminales | C5: Borneras de conexión y bloques terminales en Aleaciones de cobre (no aislados para uso en redes), se pide una muestra por cada norma de fabricación indicada por el cliente | D5: CODE_A0s9xdR0u7Q
A6: CODE_A0s9xdR0u7Q | B6: Borneras de conexión y bloques terminales | C6: Borneras de conexión y bloques terminales en Cobre (aislados o no aislados para instalaciones de uso final), se pide una muestra por cada norma de fabricación indicada por el cliente | D6: CODE_A0s9xdR0u7Q
A7: CODE_A0s9xdR0u7Q | B7: Borneras de conexión y bloques terminales | C7: Borneras de conexión y bloques terminales en Cobre (no aislados para uso en redes), se pide una muestra por cada norma de fabricación indicada por el cliente | D7: CODE_A0s9xdR0u7Q
A8: CODE_A0s9xdR0u7Q | B8: Borneras de conexión y bloques terminales | C8: Borneras de conexión y bloques terminales en Aluminio (aislados o no aislados para instalaciones de uso final), se pide una muestra por cada norma de fabricación indicada por el cliente | D8: CODE_A0s9xdR0u7Q
A9: CODE_A0s9xdR0u7Q | B9: Borneras de conexión y bloques terminales | C9: Borneras de conexión y bloques terminales en Aluminio (no aislados para uso en redes), se pide una muestra por cada norma de fabricación indicada por el cliente | D9: CODE_A0s9xdR0u7Q
A10: CODE_A0s9xdR0u7Q | B10: Borneras de conexión y bloques terminales | C10: Borneras de conexión y bloques terminales en Bimetálico (aislados o no aislados para instalaciones de uso final), se pide una muestra por cada norma de fabricación indicada por el cliente | D10: CODE_A0s9xdR0u7Q
A11: CODE_A0s9xdR0u7Q | B11: Borneras de conexión y bloques terminales | C11: Borneras de conexión y bloques terminales en Bimetálico (no aislados para uso en redes), se pide una muestra por cada norma de fabricación indicada por el cliente | D11: CODE_A0s9xdR0u7Q
A12: CODE_A1f7pwN6j7N | B12: FUENTES LUMINOSAS | C12: Fuentes luminosas | D12: CODE_A1f7pwN6j7N
... A898: CODE_Z9z0zkEn2J | B898: LUMINARIAS DE ALUMBRADO PÚBLICO | C898: Luminarias de alumbrado público. | D898: CODE_Z9z0zkEn2J

Sheet Family_Regulation
A1: CÓDIGO_REGLAMENTOS | B1: FAMILIA (NOMBRE DE PRODUCTO HOMOLOGADO RETIE 2024) | C1: REGLAMENTO UNIFICADO | D1: CÓDIGO_REGLAMENTOS
A2: CODE_FR_A0r2qgA1c6K | B2: Grapa de retención en Nylon | C2: RETIE_20.20. | D2: CODE_FR_A0r2qgA1c6K
A3: CODE_FR_A0r2qgA1c6K | B3: Grapa de retención en Nylon | C3: RETIE_2024_2.3.22. | D3: CODE_FR_A0r2qgA1c6K
A4: CODE_FR_A0srjY6j3F | B4: Borneras de conexión y bloques terminales en Bimetálico (aislados o no aislados para instalaciones de uso final), se pide una muestra por cada norma de fabricación indicada por el cliente | C4: RETIE_20.12. | D4: CODE_FR_A0srjY6j3F
A5: CODE_FR_A0srjY6j3F | B5: Borneras de conexión y bloques terminales en Bimetálico (aislados o no aislados para instalaciones de uso final), se pide una muestra por cada norma de fabricación indicada por el cliente | C5: RETIE_2024_2.3.16.2.3.;RETIE_2024_2.3.16.1. | D5: CODE_FR_A0srjY6j3F
A6: CODE_FR_A0v6weC4lB | B6: Tableros de potencia Banco de condensadores para corrección del factor de potencia - Hasta 100 kVAR | C6: RETIE_20.23.1.;RETIE_20.23.3. | D6: CODE_FR_A0v6weC4lB
A7: CODE_FR_A0v6weC4lB | B7: Tableros de potencia Banco de condensadores para corrección del factor de potencia - Hasta 100 kVAR | C7: RETIE_2024_2.3.31.1.;RETIE_2024_2.3.31.2. | D7: CODE_FR_A0v6weC4lB
A8: CODE_FR_A1c2qhW0b0Q | B8: Accesorios de conexión - tuercas de ojo en Bronce | C8: RETIE_20.20. | D8: CODE_FR_A1c2qhW0b0Q
A9: CODE_FR_A1c2qhW0b0Q | B9: Accesorios de conexión - tuercas de ojo en Bronce | C9: RETIE_2024_2.3.22. | D9: CODE_FR_A1c2qhW0b0Q
A10: CODE_FR_A1ezjNm5N | B10: Policristalinos | C10: RETIE_20.22. | D10: CODE_FR_A1ezjNm5N
A11: CODE_FR_A1ezjNm5N | B11: Policristalinos | C11: RETIE_2024_2.3.25. | D11: CODE_FR_A1ezjNm5N
A12: CODE_FR_A1w7qzQ4x1A | B12: Aisladores en Polimérico (silicona) Tipo Suspensión para Media tensión, carga mecánica hasta 100 kN | C12: RETIE_20.1.1.;RETIE_20.1.2. c. | D12: CODE_FR_A1w7qzQ4x1A
... A1615: CODE_FR_Zr7yrD3k8C | B1615: Termomagnéticos | C1615: RETIE_2024_2.3.18.3. | D1615: CODE_FR_Zr7yrD3k8C

Sheet Family_Norm
A1: CÓDIGO_NORMAS | B1: FAMILIA (NOMBRE DE PRODUCTO HOMOLOGADO RETIE 2024) | C1: NORMA | D1: CÓDIGO_NORMAS
A2: CODE_FN_A0a4ujW8o3I | B2: Conectores en Aluminio, para redes aéreas (aislados para uso en redes tipo piercing) | C2: NF C33-020 | D2: CODE_FN_A0a4ujW8o3I
A3: CODE_FN_A0a4ujW8o3I | B3: Conectores en Aluminio, para redes aéreas (aislados para uso en redes tipo piercing) | C3: ANSI C119.4 | D3: CODE_FN_A0a4ujW8o3I
A4: CODE_FN_A0a4ujW8o3I | B4: Conectores en Aluminio, para redes aéreas (aislados para uso en redes tipo piercing) | C4: ANSI/IEEE 404 | D4: CODE_FN_A0a4ujW8o3I
A5: CODE_FN_A0a4ujW8o3I | B5: Conectores en Aluminio, para redes aéreas (aislados para uso en redes tipo piercing) | C5: IEC 61238-1-2 | D5: CODE_FN_A0a4ujW8o3I
A6: CODE_FN_A0a4ujW8o3I | B6: Conectores en Aluminio, para redes aéreas (aislados para uso en redes tipo piercing) | C6: NTC 2215 | D6: CODE_FN_A0a4ujW8o3I
A7: CODE_FN_A0a4ujW8o3I | B7: Conectores en Aluminio, para redes aéreas (aislados para uso en redes tipo piercing) | C7: NTC 2244 | D7: CODE_FN_A0a4ujW8o3I
A8: CODE_FN_A0a4ujW8o3I | B8: Conectores en Aluminio, para redes aéreas (aislados para uso en redes tipo piercing) | C8: NTC 3232 | D8: CODE_FN_A0a4ujW8o3I
A9: CODE_FN_A0a4ujW8o3I | B9: Conectores en Aluminio, para redes aéreas (aislados para uso en redes tipo piercing) | C9: NTC 4988 | D9: CODE_FN_A0a4ujW8o3I
A10: CODE_FN_A0a4ujW8o3I | B10: Conectores en Aluminio, para redes aéreas (aislados para uso en redes tipo piercing) | C10: UL 486B | D10: CODE_FN_A0a4ujW8o3I
A11: CODE_FN_A0a4ujW8o3I | B11: Conectores en Aluminio, para redes aéreas (aislados para uso en redes tipo piercing) | C11: UL 486A | D11: CODE_FN_A0a4ujW8o3I
A12: CODE_FN_A0a4ujW8o3I | B12: Conectores en Aluminio, para redes aéreas (aislados para uso en redes tipo piercing) | C12: IEC 60998-2-3 | D12: CODE_FN_A0a4ujW8o3I
... A5540: CODE_FN_Zv4xtW2u9V | B5540: Aisladores en Vidrio para Media tensión, carga mecánica mayores a 100 kN | C5540: NTC 1285 | D5540: CODE_FN_Zv4xtW2u9V

Sheet Listas
A1: Esquemas | D1: PRODUCTOS ORDENADOS
A2: ESQUEMAS | D2: PRODUCTOS
A3: Esquema 1B RETIE | D3: {=+_xlfn.UNIQUE(_xlfn._xlws.SORT(Product_Family!B2:B898))} -> ACCESORIOS ELÉCTRICOS Y ELECTRÓNICOS
A4: Esquema 4 RETIE | D4: Accesorios para transformadores
A5: Esquema 5 RETIE | D5: Aceite dieléctrico
A6: Esquema 1B RETILAP | D6: Aerogeneradores eléctricos de más 25 V en c.a o más 48 V en c.c
A7: Esquema 4 RETILAP | D7: Aisladores eléctricos de vidrio, cerámica y otros materiales, para uso en líneas, redes, subestaciones y barrajes eléctricos, de tensión superior a 100 V.
A8: Esquema 5 RETILAP | D8: Arrancadores directos
A9: Esquema 1B (Reglamentos anteriores) | D9: Baterías o acumuladores de carga eléctrica para uso en procesos de generación, transmisión y distribución eléctrica, sistemas de potencia ininterrumpida (UPS), sistemas solares fotovoltaicos, eólicos o de almacenamiento de carga para inyectar a la red eléctrica de uso general.
A10: Esquema 4 (Reglamentos anteriores) | D10: Borneras de conexión y bloques terminales
A11: Esquema 5 (Reglamentos anteriores) | D11: Cables y conductores eléctricos
A12: Esquema 1A (Campo voluntario) | D12: Cajas de maniobra
A13: Esquema 1B (Campo voluntario) | D13: Cajas y conduletas, metálicas y no metálicas, usadas para conexiones de circuitos eléctricos, para alojar interruptores manuales y tomacorrientes, para alojar medidores y derivaciones. - OTROS
A14: Esquema 4 (Campo voluntario) | D14: Cajas y conduletas, metálicas y no metálicas, usadas para conexiones de circuitos eléctricos, para alojar interruptores manuales y tomacorrientes, para alojar medidores y derivaciones. - TABLEROS
A15: Esquema 5 (Campo voluntario) | D15: Cargadores de baterías para vehículos eléctricos distintos a patinetas bicicletas y motocicletas.
D16: Celdas de media tensión
D17: Cercas eléctricas
D18: Cinta aislante eléctrica
D19: Clavijas eléctricas para baja tensión
D20: Condensadores de capacidad superior a 3 kVAR y bancos de condensadores con capacidad nominal superior a 5 kVAR de baja y de media tensión.
D21: Conectores, bornes, terminales y empalmes para conductores de circuitos eléctricos
D22: Contactores eléctricos para corrientes superiores a 15 A
D23: Convertidores - Rectificadores
D24: Crucetas de uso en estructuras de apoyo de redes eléctricas y brazos (metálicos) para postes de alumbrado público
D25: Cuartos de subestación paquetizados o prefabricados
D26: Dispositivos de protección contra sobretensiones transitorias para 1000 V o más
D27: Dispositivos de protección contra sobretensiones transitorias para menos de 1000 V
... D79: Unidades de tensión regulada (reguladores de tensión) de potencia mayor a 500 VA.
